BEGIN:VCALENDAR
VERSION:2.0
PRODID:-//Tukios.com/
BEGIN:VEVENT
UID:1b7b4ba0-d3d1-4968-b253-d12eafad8569@obituaries.davisseawinds.com
DTSTAMP:20260423T145125Z
DTSTART:20260606T160000Z
DTEND:20260606T170000Z
SUMMARY:Celebration of Life
DESCRIPTION:
URL:https://obituaries.davisseawinds.com/obituaries/darryl-jennings
LOCATION:Howard E. Futch Memorial Park at Paradise Beach 2301 North 
	Highway A1A  Indialantic FL 32903
GEO:28.1233738;-80.5752399
END:VEVENT
END:VCALENDAR